BEGIN:VCALENDAR
VERSION:2.0
PRODID:-//eventon.com NONSGML v1.0//EN
BEGIN:VEVENT
UID:69e737c266b20
DTSTAMP:20260421T103930
DTSTART:20221105T090000Z
DTEND:20221105T141100Z
TZID:Europe/Berlin
LOCATION:
SUMMARY:CCO Haussammlung für Rosenmontagszug u Kinderumzug 2023
DESCRIPTION: Wir sammeln für die Ausrichtung des CCO-Kinderumzuges und Lahnsteiner Rosenmontagszug in der Kampagne 2023.\nhttps://cco-lahnstein.de/events/cco-haussammlung-fuer-rosenmontagszug-u-kinderumzug-2023/
URL:https://cco-lahnstein.de/events/cco-haussammlung-fuer-rosenmontagszug-u-kinderumzug-2023/
END:VEVENT
END:VCALENDAR