BEGIN:VCALENDAR
VERSION:2.0
PRODID:-//eventon.com NONSGML v1.0//EN
BEGIN:VEVENT
UID:69e73aec45e1e
DTSTAMP:20260421T105300
DTSTART:20230923T120000Z
DTEND:20230923T150000Z
TZID:Europe/Berlin
LOCATION:CCO-Wagenbauhalle / CCO-Vereinsheim Max-Schwarz-Straße
SUMMARY:CCO Halle "Tag der offenen Tür"
DESCRIPTION: Fotoshooting mit Festwagen - einmal selbst in die Bütt? Kuchenbuffett - Führungen durch die Wagenbauhalle unhd Vereinsheim - Kinderschminken - Getränkestand - Kindertanzgruppen zeigen ihr Können\nhttps://cco-lahnstein.de/events/cco-halle-tag-der-offenen-tuer/
URL:https://cco-lahnstein.de/events/cco-halle-tag-der-offenen-tuer/
END:VEVENT
END:VCALENDAR