BEGIN:VCALENDAR
VERSION:2.0
PRODID:-//eventon.com NONSGML v1.0//EN
BEGIN:VEVENT
UID:69ea0818a7cbe
DTSTAMP:20260423T135256
DTSTART:20240622T113300Z
DTEND:20240622T141100Z
TZID:Europe/Berlin
LOCATION:Martinsschloss Schlossstr. 1
SUMMARY:CCO Schlossfest
DESCRIPTION: Mitglieder-Ehrungen - auf Einladung -\nhttps://cco-lahnstein.de/events/cco-schlossfest-2/
URL:https://cco-lahnstein.de/events/cco-schlossfest-2/
END:VEVENT
END:VCALENDAR