BEGIN:VCALENDAR
VERSION:2.0
PRODID:-//eventon.com NONSGML v1.0//EN
BEGIN:VEVENT
UID:69ea1f562ea60
DTSTAMP:20260423T153206
DTSTART:20240516T170000Z
DTEND:20240516T194500Z
TZID:Europe/Berlin
LOCATION:Stadthalle Lahnstein 
SUMMARY:CCO Jahreshauptversammlung
DESCRIPTION: mit Wahlen des Gesamtvorstandes. Die Einladungen sind an die Mitglieder schriftlich versendet worden. Ort: Kleiner Saal\nhttps://cco-lahnstein.de/events/cco-jahreshauptversammlung-3/
URL:https://cco-lahnstein.de/events/cco-jahreshauptversammlung-3/
END:VEVENT
END:VCALENDAR