BEGIN:VCALENDAR
VERSION:2.0
PRODID:-//eventon.com NONSGML v1.0//EN
BEGIN:VEVENT
UID:69ea08de3e35b
DTSTAMP:20260423T135614
DTSTART:20240519T120000Z
DTEND:20240519T150000Z
TZID:Europe/Berlin
LOCATION:Martinsschloss Schlossstr. 1
SUMMARY:Fastnachtsmuseum startet seine Saison
DESCRIPTION: mit der Teilnahme am Internationalen Museumstag startet unser Fastnachtsmuseum in seine Saison (bis Mitte September). Jeden Sonntag v 15-16:30 Uhr. Am Tag des Internationalen Musuemstages Sonderzeit 14-17 Uhr. Eintritt frei\,  Spenden willkommen. Sonderführugen mit Verbindung eines historischen Spaziergangs gegen ein gerinegs Entgelt nach Absprache buchbar: museum@cco-lahnstein.de\nhttps://cco-lahnstein.de/events/fastnachtsmuseum-startet-seine-saison/
URL:https://cco-lahnstein.de/events/fastnachtsmuseum-startet-seine-saison/
END:VEVENT
END:VCALENDAR