BEGIN:VCALENDAR
VERSION:2.0
PRODID:-//eventon.com NONSGML v1.0//EN
BEGIN:VEVENT
UID:69ea08b7e2dc8
DTSTAMP:20260423T135535
DTSTART:20240608T090000Z
DTEND:20240608T140000Z
TZID:Europe/Berlin
LOCATION:Schützenplatz Lahnstein Rheinhöhenweg
SUMMARY:CCO Kinder-Sommerfest
DESCRIPTION: Familien\,  Aktive und Freunde des Vereins willkommen. Eintritt frei. Für Verköstigung vor Ort ist bestens gesorgt. Geschwisterkinder gerne mitbrngen!\nhttps://cco-lahnstein.de/events/cco-kinder-sommerfest/
URL:https://cco-lahnstein.de/events/cco-kinder-sommerfest/
END:VEVENT
END:VCALENDAR