BEGIN:VCALENDAR
VERSION:2.0
PRODID:-//eventon.com NONSGML v1.0//EN
BEGIN:VEVENT
UID:69ea08b38fa1f
DTSTAMP:20260423T135531
DTSTART:20240608T170000Z
DTEND:20240608T215900Z
TZID:Europe/Berlin
LOCATION:Schützenplatz Lahnstein Rheinhöhenweg
SUMMARY:CCO Summer Jam
DESCRIPTION: Kartenvorverkauf nutzen! 10€ (kann vor Ort gegen Veruehrgutschein getauscht werden). Kartenverkauf über Wäscherei Glatt und Sauber\,  Winzerhaus und natürlich auch an der Abendkasse.\nhttps://cco-lahnstein.de/events/cco-summer-jam-2/
URL:https://cco-lahnstein.de/events/cco-summer-jam-2/
END:VEVENT
END:VCALENDAR