BEGIN:VCALENDAR
VERSION:2.0
PRODID:-//eventon.com NONSGML v1.0//EN
BEGIN:VEVENT
UID:69ea085e000ec
DTSTAMP:20260423T135406
DTSTART:20240908T120000Z
DTEND:20240908T215900Z
TZID:Europe/Berlin
LOCATION:Rheinufer Oberlahnstein 
SUMMARY:Teilnahme an der Oberlahnsteiner Kirmes
DESCRIPTION: Die Ausrichter 24er feiern ihr 100-Jähriges. Teilnahme am Festumzug / wenn bekannr\nhttps://cco-lahnstein.de/events/teilnahme-an-der-oberlahnsteiner-kirmes/
URL:https://cco-lahnstein.de/events/teilnahme-an-der-oberlahnsteiner-kirmes/
END:VEVENT
END:VCALENDAR