BEGIN:VCALENDAR
VERSION:2.0
PRODID:-//eventon.com NONSGML v1.0//EN
BEGIN:VEVENT
UID:69ea08e35df7e
DTSTAMP:20260423T135619
DTSTART:20241116T090000Z
DTEND:20241116T140000Z
TZID:Europe/Berlin
LOCATION:
SUMMARY:CCO-Haussammlung
DESCRIPTION: zu Gunsten Ausrichtung Rosenmontagszug und Kinder- u Jugendumzug Fastnachtsamstag.\nhttps://cco-lahnstein.de/events/cco-haussammlung/
URL:https://cco-lahnstein.de/events/cco-haussammlung/
END:VEVENT
END:VCALENDAR