BEGIN:VCALENDAR
VERSION:2.0
PRODID:-//eventon.com NONSGML v1.0//EN
BEGIN:VEVENT
UID:69ea08a85eeea
DTSTAMP:20260423T135520
DTSTART:20250111T090000Z
DTEND:20250111T130000Z
TZID:Europe/Berlin
LOCATION:Stadthalle Lahnstein Foyer Salhofplatz
SUMMARY:CCO-Aktiven-Ordensempfang
DESCRIPTION: auf Einladung : alle erwachsenen Aktivenkreise. HINWEIS: zunächst war der 25.01.25 ausgeschrieben - der Empfang wurde wegen Veranstaltungsüberschneidung verlegt!\nhttps://cco-lahnstein.de/events/cco-aktiven-ordensempfang/
URL:https://cco-lahnstein.de/events/cco-aktiven-ordensempfang/
END:VEVENT
END:VCALENDAR