BEGIN:VCALENDAR
VERSION:2.0
PRODID:-//eventon.com NONSGML v1.0//EN
BEGIN:VEVENT
UID:69ea07fe9aeaf
DTSTAMP:20260423T135230
DTSTART:20250113T163000Z
DTEND:20250113T173000Z
TZID:Europe/Berlin
LOCATION:Turnerheim Westallee 
SUMMARY:CCO-Kartenvorverkauf Männerballett-Festival
DESCRIPTION: CCO-Kartenvorverkauf Männerballett-Festival\nhttps://cco-lahnstein.de/events/cco-kartenvorverkauf-maennerballett-festival/
URL:https://cco-lahnstein.de/events/cco-kartenvorverkauf-maennerballett-festival/
END:VEVENT
END:VCALENDAR