BEGIN:VCALENDAR
VERSION:2.0
PRODID:-//eventon.com NONSGML v1.0//EN
BEGIN:VEVENT
UID:69ea1fe25cc20
DTSTAMP:20260423T153426
DTSTART:20250208T160000Z
DTEND:20250208T221100Z
TZID:Europe/Berlin
LOCATION:Stadthalle Lahnstein 
SUMMARY:2. CCO-Trockensitzung
DESCRIPTION: HINWEIS: Beginn 17 Uhr!\nhttps://cco-lahnstein.de/events/2-cco-trockensitzung-2/
URL:https://cco-lahnstein.de/events/2-cco-trockensitzung-2/
END:VEVENT
END:VCALENDAR