BEGIN:VCALENDAR
VERSION:2.0
PRODID:-//eventon.com NONSGML v1.0//EN
BEGIN:VEVENT
UID:69ea085c2ad4d
DTSTAMP:20260423T135404
DTSTART:20250214T190000Z
DTEND:20250214T225900Z
TZID:Europe/Berlin
LOCATION:Stadthalle Lahnstein 
SUMMARY:CCO-Männerballett-Festival
DESCRIPTION: CCO-Männerballett-Festival\nhttps://cco-lahnstein.de/events/cco-maennerballett-festival-2/
URL:https://cco-lahnstein.de/events/cco-maennerballett-festival-2/
END:VEVENT
END:VCALENDAR