BEGIN:VCALENDAR
VERSION:2.0
PRODID:-//eventon.com NONSGML v1.0//EN
BEGIN:VEVENT
UID:69ea07ff218c2
DTSTAMP:20260423T135231
DTSTART:20250223T131100Z
DTEND:20250223T163000Z
TZID:Europe/Berlin
LOCATION:Stadthalle Lahnstein 
SUMMARY:CCO-Kinderfastnacht
DESCRIPTION: Spaß\,  tolle Auftritte v Kindertanzgruppen\,  Kinderprinzenbesuch und und und...\nhttps://cco-lahnstein.de/events/cco-kinderfastnacht-3/
URL:https://cco-lahnstein.de/events/cco-kinderfastnacht-3/
END:VEVENT
END:VCALENDAR