BEGIN:VCALENDAR
VERSION:2.0
PRODID:-//eventon.com NONSGML v1.0//EN
BEGIN:VEVENT
UID:69ea08bd364bc
DTSTAMP:20260423T135541
DTSTART:20250301T130000Z
DTEND:20250301T151100Z
TZID:Europe/Berlin
LOCATION:Lahnstein 
SUMMARY:CCO Kinder- und Jugendumzug
DESCRIPTION: Bitte die aktuelle geänderte Zugstrecke beachten. Sie musste entgegen der bisher veröffentlichten Zuggrafik geändert werden. Die neue Zugstrecke geht NUR durch OBERLAHNSTEIN.: Aufstellung ist am Europaplatz\,  Vencerstraße - bitte die Zugordner ansprechen\,  die Ihnen die Zugnummer und Ihren Aufstellplatz mitteilen werden. Zugstrecke: Europaplatz\,  Dr. Weber Straße\,  Adolfstraße\,  Westallee\,  Hochstraße -[..]\nhttps://cco-lahnstein.de/events/cco-kinder-und-jugendumzug-3/
URL:https://cco-lahnstein.de/events/cco-kinder-und-jugendumzug-3/
END:VEVENT
END:VCALENDAR