BEGIN:VCALENDAR
VERSION:2.0
PRODID:-//eventon.com NONSGML v1.0//EN
BEGIN:VEVENT
UID:69ea0828a6b60
DTSTAMP:20260423T135312
DTSTART:20250303T130000Z
DTEND:20250303T152200Z
TZID:Europe/Berlin
LOCATION:Lahnstein 
SUMMARY:Lahnsteiner Rosenmontagszug (CCO)
DESCRIPTION: Bitte die neue Zugstrecke beachten. Anmeldungen für Zugteilnahme: CCO-Zugleiter sebastian Seifert zugleitung@cco-lahnstein.de Er schickt Ihnen bei Interesse gerne die Anmeldeunterlagen Wir brauchen Helfer als Ordner  - wir zeigen uns hier auch erkenntlich - bitte gerne an uns wenden vorstand@cco-lahnstein.de &nbsp;\nhttps://cco-lahnstein.de/events/lahnsteiner-rosenmontagszug-cco/
URL:https://cco-lahnstein.de/events/lahnsteiner-rosenmontagszug-cco/
END:VEVENT
END:VCALENDAR