BEGIN:VCALENDAR
VERSION:2.0
PRODID:-//eventon.com NONSGML v1.0//EN
BEGIN:VEVENT
UID:69ea1fadd1213
DTSTAMP:20260423T153333
DTSTART:20250304T183000Z
DTEND:20250304T213300Z
TZID:Europe/Berlin
LOCATION:Stadthalle Lahnstein Foyer Salhofplatz
SUMMARY:CCO-Kehraus
DESCRIPTION: Verbachiedung der Lahnsteiner Tollitäten\nhttps://cco-lahnstein.de/events/cco-kehraus-3/
URL:https://cco-lahnstein.de/events/cco-kehraus-3/
END:VEVENT
END:VCALENDAR