BEGIN:VCALENDAR
VERSION:2.0
PRODID:-//eventon.com NONSGML v1.0//EN
BEGIN:VEVENT
UID:69ea08cba7ac1
DTSTAMP:20260423T135555
DTSTART:20241012T170000Z
DTEND:20241012T215900Z
TZID:Europe/Berlin
LOCATION:Pfarrzentrum Europaplatz 
SUMMARY:CCO "Cinema Carnevalis"-Filmabend
DESCRIPTION: Das große Filmprojekt\,  welches in den Coronajahren unter Mitwirkung der Lahnsteiner Karnevals- und Gesellschaftsvereinen erstellt wurde\,  wird Euch viel Freude machen! Ein unterhaltsamer Abend mit Filmclips\,  moderiert von unserem Eferratspräsidenten Markus Krapf. Nach der erfolgreichen Premiere im November 2023 noch im kleinen Kreis präsentiert das CCO auf vielfachen Wunsch noch[..]\nhttps://cco-lahnstein.de/events/cco-cinema-carnevalis/
URL:https://cco-lahnstein.de/events/cco-cinema-carnevalis/
END:VEVENT
END:VCALENDAR