BEGIN:VCALENDAR
VERSION:2.0
PRODID:-//eventon.com NONSGML v1.0//EN
BEGIN:VEVENT
UID:69ea08db6cad3
DTSTAMP:20260423T135611
DTSTART:20250522T170000Z
DTEND:20250522T193000Z
TZID:Europe/Berlin
LOCATION:Turnerheim Westallee 
SUMMARY:Jahreshauptversammlung 2025
DESCRIPTION: Nur für Mitglieder\nhttps://cco-lahnstein.de/events/jahreshauptversammlung-2025/
URL:https://cco-lahnstein.de/events/jahreshauptversammlung-2025/
END:VEVENT
END:VCALENDAR