BEGIN:VCALENDAR
VERSION:2.0
PRODID:-//eventon.com NONSGML v1.0//EN
BEGIN:VEVENT
UID:69ea081373dfd
DTSTAMP:20260423T135251
DTSTART:20250518T120000Z
DTEND:20250518T150000Z
TZID:Europe/Berlin
LOCATION:Martinsschloss Schlossstr. 1
SUMMARY:Fastnachtsmuseum startet seine Saison
DESCRIPTION: mit der Teilnahme am Internationalen Museumstag startet unser Fastnachtsmuseum in seine Saison (bis Mitte September). Jeden Sonntag v 15-16:30 Uhr. Am Tag des Internationalen Musuemstages Sonderzeit 14-17 Uhr. Eintritt frei\,  Spenden willkommen. Sonderführugen mit Verbindung eines historischen Spaziergangs gegen ein gerinegs Entgelt nach Absprache buchbar: museum@cco-lahnstein.de\nhttps://cco-lahnstein.de/events/fastnachtsmuseum-startet-seine-saison-2/
URL:https://cco-lahnstein.de/events/fastnachtsmuseum-startet-seine-saison-2/
END:VEVENT
END:VCALENDAR