BEGIN:VCALENDAR
VERSION:2.0
PRODID:-//eventon.com NONSGML v1.0//EN
BEGIN:VEVENT
UID:69ea0827a3acf
DTSTAMP:20260423T135311
DTSTART:20250627T155500Z
DTEND:20250627T191100Z
TZID:Europe/Berlin
LOCATION:Martinsschloss Schlossstr. 1
SUMMARY:CCO Schloss- und Ehrungsfest und Empfang zu "30 Jahre Fastnachtsmuseum"
DESCRIPTION: CCO Schloss- und Ehrungsfest mit Jubiläumsfeier zu "30 Jahre Lahnsteiner Fastnachtsmuseum" auf Einladung\nhttps://cco-lahnstein.de/events/cco-schloss-und-ehrungsfest/
URL:https://cco-lahnstein.de/events/cco-schloss-und-ehrungsfest/
END:VEVENT
END:VCALENDAR