BEGIN:VCALENDAR
VERSION:2.0
PRODID:-//eventon.com NONSGML v1.0//EN
BEGIN:VEVENT
UID:69ea07fda6eda
DTSTAMP:20260423T135229
DTSTART:20250913
DTEND:20250914
TZID:Europe/Berlin
LOCATION:Rheinufer Oberlahnstein 
SUMMARY:Teilnahme an der Oberlahnsteiner Kirmes
DESCRIPTION: Teilnahme an der Oberlahnsteiner Kirmes\nhttps://cco-lahnstein.de/events/teilnahme-an-der-oberlahnsteiner-kirmes-2/
URL:https://cco-lahnstein.de/events/teilnahme-an-der-oberlahnsteiner-kirmes-2/
END:VEVENT
END:VCALENDAR