BEGIN:VCALENDAR
VERSION:2.0
PRODID:-//eventon.com NONSGML v1.0//EN
BEGIN:VEVENT
UID:69ea1fc8cc05f
DTSTAMP:20260423T153400
DTSTART:20251108T090000Z
DTEND:20251108T140000Z
TZID:Europe/Berlin
LOCATION:
SUMMARY:CCO Haussammlung zu Gunsten Romo-Zug & Kinderumzug
DESCRIPTION: Vielen Dank an alle\,  die etwas spenden!\nhttps://cco-lahnstein.de/events/cco-haussammlung-zu-gunsten-romo-zug-kinderumzug-2/
URL:https://cco-lahnstein.de/events/cco-haussammlung-zu-gunsten-romo-zug-kinderumzug-2/
END:VEVENT
END:VCALENDAR