BEGIN:VCALENDAR
VERSION:2.0
PRODID:-//eventon.com NONSGML v1.0//EN
BEGIN:VEVENT
UID:69ea1fc3da3c7
DTSTAMP:20260423T153355
DTSTART:20251213T090000Z
DTEND:20251213T113000Z
TZID:Europe/Berlin
LOCATION:Stadthalle Lahnstein Foyer Salhofplatz
SUMMARY:CCO Kartenvorverkauf Trockensitzungen
DESCRIPTION: CCO Kartenvorverkauf Trockensitzungen\nhttps://cco-lahnstein.de/events/cco-kartenvorverkauf-trockensitzungen/
URL:https://cco-lahnstein.de/events/cco-kartenvorverkauf-trockensitzungen/
END:VEVENT
END:VCALENDAR