BEGIN:VCALENDAR
VERSION:2.0
PRODID:-//eventon.com NONSGML v1.0//EN
BEGIN:VEVENT
UID:69ea0827a4b4d
DTSTAMP:20260423T135311
DTSTART:20251218T163000Z
DTEND:20251218T173000Z
TZID:Europe/Berlin
LOCATION:Turnerheim Westallee 
SUMMARY:CCO Kartenvorverkauf Männerballett-Festival
DESCRIPTION: CCO Kartenvorverkauf Männerballett-Festival\nhttps://cco-lahnstein.de/events/cco-kartenvorverkauf-maennerballett-festival-2/
URL:https://cco-lahnstein.de/events/cco-kartenvorverkauf-maennerballett-festival-2/
END:VEVENT
END:VCALENDAR