BEGIN:VCALENDAR
VERSION:2.0
PRODID:-//eventon.com NONSGML v1.0//EN
BEGIN:VEVENT
UID:69ea08282f947
DTSTAMP:20260423T135312
DTSTART:20260117T170000Z
DTEND:20260117T225900Z
TZID:Europe/Berlin
LOCATION:Stadthalle Lahnstein 
SUMMARY:1. CCO Trockensitzung
DESCRIPTION: 1. CCO Trockensitzung\nhttps://cco-lahnstein.de/events/1-cco-trockensitzung-3/
URL:https://cco-lahnstein.de/events/1-cco-trockensitzung-3/
END:VEVENT
END:VCALENDAR