BEGIN:VCALENDAR
VERSION:2.0
PRODID:-//eventon.com NONSGML v1.0//EN
BEGIN:VEVENT
UID:69ea086596b86
DTSTAMP:20260423T135413
DTSTART:20260118T133000Z
DTEND:20260118T161100Z
TZID:Europe/Berlin
LOCATION:Stadthalle Lahnstein Foyer Salhofplatz
SUMMARY:CCO Kinderproklamation
DESCRIPTION: CCO Kinderproklamation\nhttps://cco-lahnstein.de/events/cco-kinderproklamation-2/
URL:https://cco-lahnstein.de/events/cco-kinderproklamation-2/
END:VEVENT
END:VCALENDAR