BEGIN:VCALENDAR
VERSION:2.0
PRODID:-//eventon.com NONSGML v1.0//EN
BEGIN:VEVENT
UID:69ea07fda971e
DTSTAMP:20260423T135229
DTSTART:20260124T180000Z
DTEND:20260124T225900Z
TZID:Europe/Berlin
LOCATION:Stadthalle Lahnstein 
SUMMARY:2. CCO Trockensitzung
DESCRIPTION: HINWEIS: Beginn 17 Uhr!\nhttps://cco-lahnstein.de/events/2-cco-trockensitzung-3/
URL:https://cco-lahnstein.de/events/2-cco-trockensitzung-3/
END:VEVENT
END:VCALENDAR