BEGIN:VCALENDAR
VERSION:2.0
PRODID:-//eventon.com NONSGML v1.0//EN
BEGIN:VEVENT
UID:69ea0865b2f5a
DTSTAMP:20260423T135413
DTSTART:20260130T180000Z
DTEND:20260130T225900Z
TZID:Europe/Berlin
LOCATION:Stadthalle Lahnstein 
SUMMARY:CCO Männerballettfestival
DESCRIPTION: CCO Männerballettfestival\nhttps://cco-lahnstein.de/events/cco-maennerballettfestival-2/
URL:https://cco-lahnstein.de/events/cco-maennerballettfestival-2/
END:VEVENT
END:VCALENDAR