BEGIN:VCALENDAR
VERSION:2.0
PRODID:-//eventon.com NONSGML v1.0//EN
BEGIN:VEVENT
UID:69ea081a0cfe7
DTSTAMP:20260423T135258
DTSTART:20260131T120000Z
DTEND:20260131T161100Z
TZID:Europe/Berlin
LOCATION:Hotel Wyndham Garden Zu den Thermen
SUMMARY:CCO Prinzen- und Kinderprinzenempfang
DESCRIPTION: Nur auf Einladung - wir bitten alle geladenen Gäste um rechtzeitige Anmeldung. Im Rhein-Lahn-Saal\nhttps://cco-lahnstein.de/events/cco-prinzen-und-kinderprinzenempfang-2/
URL:https://cco-lahnstein.de/events/cco-prinzen-und-kinderprinzenempfang-2/
END:VEVENT
END:VCALENDAR