BEGIN:VCALENDAR
VERSION:2.0
PRODID:-//eventon.com NONSGML v1.0//EN
BEGIN:VEVENT
UID:69ea0818a47e1
DTSTAMP:20260423T135256
DTSTART:20260201T132200Z
DTEND:20260201T161100Z
TZID:Europe/Berlin
LOCATION:Stadthalle Lahnstein 
SUMMARY:CCO Kinderfastnacht
DESCRIPTION: Kartenvorverkauf: ab Mitte Dezember bei "Wäscherei Glatt und Sauber"\nhttps://cco-lahnstein.de/events/cco-kinderfastnacht-4/
URL:https://cco-lahnstein.de/events/cco-kinderfastnacht-4/
END:VEVENT
END:VCALENDAR