BEGIN:VCALENDAR
VERSION:2.0
PRODID:-//eventon.com NONSGML v1.0//EN
BEGIN:VEVENT
UID:69ea081405f1c
DTSTAMP:20260423T135252
DTSTART:20260208T130000Z
DTEND:20260208T190000Z
TZID:Europe/Berlin
LOCATION:Stadthalle Lahnstein 
SUMMARY:3. CCO Trockensitzung
DESCRIPTION: 3. CCO Trockensitzung\nhttps://cco-lahnstein.de/events/3-cco-trockensitzung/
URL:https://cco-lahnstein.de/events/3-cco-trockensitzung/
END:VEVENT
END:VCALENDAR