BEGIN:VCALENDAR
VERSION:2.0
PRODID:-//eventon.com NONSGML v1.0//EN
BEGIN:VEVENT
UID:69ea085d4f7ec
DTSTAMP:20260423T135405
DTSTART:20260216T130000Z
DTEND:20260216T152200Z
TZID:Europe/Berlin
LOCATION:Lahnstein 
SUMMARY:CCO Rosenmontagszug
DESCRIPTION: CCO Rosenmontagszug\nhttps://cco-lahnstein.de/events/cco-rosenmontagszug-2/
URL:https://cco-lahnstein.de/events/cco-rosenmontagszug-2/
END:VEVENT
END:VCALENDAR