BEGIN:VCALENDAR
VERSION:2.0
PRODID:-//eventon.com NONSGML v1.0//EN
BEGIN:VEVENT
UID:69ea07d9f2ec3
DTSTAMP:20260423T135153
DTSTART:20260217T161100Z
DTEND:20260217T193000Z
TZID:Europe/Berlin
LOCATION:Stadthalle Lahnstein Foyer Salhofplatz
SUMMARY:CCO Kehraus
DESCRIPTION: Verabschiedung der Lahnsteiner Tollitäten Groß und Klein Unmittelbar nach der Teilnahme an der Kappenfahrt treffen wir uns im Foyer de Stadthalle\nhttps://cco-lahnstein.de/events/cco-kehraus-4/
URL:https://cco-lahnstein.de/events/cco-kehraus-4/
END:VEVENT
END:VCALENDAR