BEGIN:VCALENDAR
VERSION:2.0
PRODID:-//eventon.com NONSGML v1.0//EN
BEGIN:VEVENT
UID:69e5807b9a79e
DTSTAMP:20260420T032515
DTSTART:20261210T160000Z
DTEND:20261210T173000Z
TZID:Europe/Berlin
LOCATION:Stadthalle Konferenzraum Salhofplatz
SUMMARY:CCO-Kinder-Weihnachtsfeier
DESCRIPTION: Für alle aktiven CCO-Kinder \,  ob Kinderelferrat\,  Kindertanzgruppen\,  CCO-Narren. Ort und Uhrzeit folgt.\nhttps://cco-lahnstein.de/events/kinder-weihnachtsfeier/
URL:https://cco-lahnstein.de/events/kinder-weihnachtsfeier/
END:VEVENT
END:VCALENDAR