BEGIN:VCALENDAR
VERSION:2.0
PRODID:-//eventon.com NONSGML v1.0//EN
BEGIN:VEVENT
UID:69e580fb3bae5
DTSTAMP:20260420T032723
DTSTART:20260606T120000Z
DTEND:20260606T150000Z
TZID:Europe/Berlin
LOCATION:Schützenplatz Lahnstein Rheinhöhenweg
SUMMARY:CCO-Kinder-Sommerfest
DESCRIPTION: für alle Kinder aus den Reiehen des Vereins\,  gerne auch mit Geschwisterkinder. Eltern willkommen! Uhrzeitbestätigung folgt noch\nhttps://cco-lahnstein.de/events/cco-kinder-sommerfest-2/
URL:https://cco-lahnstein.de/events/cco-kinder-sommerfest-2/
END:VEVENT
END:VCALENDAR