BEGIN:VCALENDAR
VERSION:2.0
PRODID:-//eventon.com NONSGML v1.0//EN
BEGIN:VEVENT
UID:69e580c09ce04
DTSTAMP:20260420T032624
DTSTART:20261205T083000Z
DTEND:20261205T101100Z
TZID:Europe/Berlin
LOCATION:Stadthalle Lahnstein Foyer Salhofplatz
SUMMARY:CCO-Kartenvorverkauf Trockensitzungen
DESCRIPTION: Mitglieder erhalten wieder vorab ihre Berechtigungskarten zum vorgezogenen Mitgliederverkauf\,  eine halbe Stunde später für Nichtmitglieder.\nhttps://cco-lahnstein.de/events/cco-kartenvorverkauf-trockensitzungen-2/
URL:https://cco-lahnstein.de/events/cco-kartenvorverkauf-trockensitzungen-2/
END:VEVENT
END:VCALENDAR