BEGIN:VCALENDAR
VERSION:2.0
PRODID:-//eventon.com NONSGML v1.0//EN
BEGIN:VEVENT
UID:69e57fa6f3925
DTSTAMP:20260420T032142
DTSTART:20261207T163000Z
DTEND:20261207T171500Z
TZID:Europe/Berlin
LOCATION:Turnerheim Westallee 
SUMMARY:CCO-Kartenvorverkauf Männerballettfestival
DESCRIPTION: vorab keine telefonische Vorbestellungen. Ab Dienstag\,  08.12. Restkarten in der KVV-Stelle "Wäscherei Glatt und Sauber"\nhttps://cco-lahnstein.de/events/cco-kartenvorverkauf-maennerballettfestival/
URL:https://cco-lahnstein.de/events/cco-kartenvorverkauf-maennerballettfestival/
END:VEVENT
END:VCALENDAR